BEGIN:VCALENDAR
VERSION:2.0
BEGIN:VEVENT
URL:https://1rodina.cz/index.php/sit-1rodina/udalosti/viewevent/304-bdici-a-spici-pratele-pomozte-si-sami-miru-zdar 
DTSTART:20250613T000000
DTEND:20250731T001500
SUMMARY:BDÍCÍ A SPÍCÍ PŘÁTELÉ POMOZTE SI SAMI, MÍRU ZDAR  
DESCRIPTION:
LOCATION:Česká republika 
END:VEVENT
END:VCALENDAR