BEGIN:VCALENDAR
VERSION:2.0
BEGIN:VEVENT
URL:https://1rodina.cz/index.php/sit-1rodina/udalosti/viewevent/305-priznejte-se-kdo-jste-byli-na-ladove-tour 
DTSTART:20250619T000000
DTEND:20250630T000000
SUMMARY:PŘIZNEJTE SE, KDO JSTE BYLI NA LÁĎOVĚ  "TOUR " ?
DESCRIPTION:
LOCATION:Česká republika 
END:VEVENT
END:VCALENDAR