BEGIN:VCALENDAR
VERSION:2.0
BEGIN:VEVENT
URL:https://1rodina.cz/index.php/sit-1rodina/udalosti/viewevent/306-dnes-ma-svatek-olga-preju-vse-nejlepsi 
DTSTART:20250712T000000
DTEND:20250712T001500
SUMMARY:DNES MÁ SVÁTEK OLGA, PŘEJU VŠE NEJLEPŠÍ 
DESCRIPTION:
LOCATION:Praha
END:VEVENT
END:VCALENDAR