BEGIN:VCALENDAR
VERSION:2.0
BEGIN:VEVENT
URL:https://1rodina.cz/index.php/sit-1rodina/udalosti/viewevent/307-lada-ma-narozeniny-my-mame-prani-jediny-sresti-zdraavi-stesti-zdraavim-hlavnero-zdravi 
DTSTART:20250712T000000
DTEND:20250713T000000
SUMMARY:LÁĎA MÁ NAROZENINY, MY MÁME PŘÁNÍ JEDINÝ, ŠRĚSTÍ ZDRAAVÍ, ŠTESTÍ ZDRAAVÍM. HLAVNĚRO ZDRAVÍ
DESCRIPTION:PÍSNÍČKA KTARÁ SE HODÍ
LOCATION:Svět
END:VEVENT
END:VCALENDAR