BEGIN:VCALENDAR
VERSION:2.0
BEGIN:VEVENT
URL:https://1rodina.cz/index.php/sit-1rodina/udalosti/viewevent/308-valka-v-ohrozeni-nemaji-cim-strilet-a-roky-potrva-nez-se-vzpamatuji 
DTSTART:20251231T000000
DTEND:20251231T001500
SUMMARY:VÁLKA V OHROŽENÍ NEMAJÍ ČÍM STŘÍLET A ROKY POTRVÁ NEŽ SE VZPAMATUJÍ
DESCRIPTION:
LOCATION:Svět
END:VEVENT
END:VCALENDAR