BEGIN:VCALENDAR
VERSION:2.0
BEGIN:VEVENT
URL:https://1rodina.cz/index.php/sit-1rodina/udalosti/viewevent/309-soud-21-7-2025-v-9-hodin-na-karlove-namesti-v-praze-s-ivanem-kratochvilem 
DTSTART:20250721T000000
DTEND:20250722T001500
SUMMARY:SOUD 21.7.2025 V 9 HODIN NA KARLOVĚ NÁMĚSTÍ V PRAZE S IVANEM KRATOCHVÍLEM
DESCRIPTION:PŘÁTELÉ PŘIJĎTE PODPOŘIT SVOBODU
LOCATION:Praha
END:VEVENT
END:VCALENDAR