BEGIN:VCALENDAR
VERSION:2.0
BEGIN:VEVENT
URL:https://1rodina.cz/index.php/sit-1rodina/udalosti/viewevent/310-vymluvy-proste-zvednete-zadky-od-klavesnice 
DTSTART:20250721T000000
DTEND:20250721T001500
SUMMARY:VÝMLUVY? PROSTĚ ZVĚDNĚTE ZADKY OD KLÁVESNICE
DESCRIPTION:SOUD 21.7.2025 V 9. HODIN PRAHA KARLOVO NÁMĚSTÍ.
LOCATION:Praha
END:VEVENT
END:VCALENDAR