BEGIN:VCALENDAR
VERSION:2.0
BEGIN:VEVENT
URL:https://1rodina.cz/index.php/sit-1rodina/udalosti/viewevent/311-kdo-nemuzete-sedte-pekne-doma 
DTSTART:20250721T000000
DTEND:20250721T001500
SUMMARY:KDO "NEMŮŽETE" SEĎTE PĚKNĚ DOMA
DESCRIPTION:21. 7.2025 V 9 HODIN U SOUDU V PRAZE NA KARLOVĚ NÁMĚSTÍ
LOCATION:Praha
END:VEVENT
END:VCALENDAR