BEGIN:VCALENDAR
VERSION:2.0
BEGIN:VEVENT
URL:https://1rodina.cz/index.php/sit-1rodina/udalosti/viewevent/312-ceska-justice-si-ukrupla-do-kalhotek 
DTSTART:20250723T000000
DTEND:20250723T001500
SUMMARY:ČESKÁ JUSTICE SI UKRUPLA DO KALHOTEK 
DESCRIPTION:PŘÁTELÉ A REPORTÉŘI ČESKÉ TELEVIZE UTŘELI
LOCATION:Praha
END:VEVENT
END:VCALENDAR