BEGIN:VCALENDAR
VERSION:2.0
BEGIN:VEVENT
URL:https://1rodina.cz/index.php/sit-1rodina/udalosti/viewevent/313-zvanirna-rekl-babis-o-snemovne-rec-se-mluvi-a-voda-tece 
DTSTART:20250723T000000
DTEND:20250807T001500
SUMMARY:ŽVANÍRNA ŘEKL BABIŠ O SNĚMOVNĚ - ŘEČ SE MLUVÍ A VODA TEČE
DESCRIPTION:KDO Z NÁS PODPOŘIL U SOUDU VČERA IVANA KRATICHVÍLA, VŠEM VELMI PODĚKOVAL TAK TO VYŘIZUJI
LOCATION:Česká republika
END:VEVENT
END:VCALENDAR