BEGIN:VCALENDAR
VERSION:2.0
BEGIN:VEVENT
URL:https://1rodina.cz/index.php/sit-1rodina/udalosti/viewevent/314-tak-jo 
DTSTART:20250725T000000
DTEND:20251231T001500
SUMMARY:TAK JO
DESCRIPTION:PŘESNĚ JAK TO ŘEKL ANDREJ, 7.8. 2025 V 9 HODIN SPÁLENÁ ULICE ČP. 2 SOUDNÍ LÍČENÍ S IVANEM KTATOCHVÍLEM, JDO NEPŘIJDE TEN KE SRAB
LOCATION:Svět
END:VEVENT
END:VCALENDAR