BEGIN:VCALENDAR
VERSION:2.0
BEGIN:VEVENT
URL:https://1rodina.cz/index.php/sit-1rodina/udalosti/viewevent/315-donik-prisel-o-doly-u-kravina-a-o-ropu-smluvenou-s-pakistanem 
DTSTART:20250801T000000
DTEND:20250831T001500
SUMMARY:DONÍK PŘIŠEL O DOLY U KRAVÍNA A O ROPU SMLUVENOU S PÁKISTÁNEM  
DESCRIPTION:ROPA JE V BALÚČISTÁNU A NENÍ NA PRODEJ
LOCATION:Svět
END:VEVENT
END:VCALENDAR