BEGIN:VCALENDAR
VERSION:2.0
BEGIN:VEVENT
URL:https://1rodina.cz/index.php/sit-1rodina/udalosti/viewevent/32-jaromer-a-okoli-pratele-z-okoli-ozvete-se 
DTSTART:20231121T000000
DTEND:20231121T001500
SUMMARY:JAROMĚŘ A OKOLÍ - Přátelé z okolí ozvěte se.
DESCRIPTION:Sdružování po ustavujícím sněmu
LOCATION:Jaroměř
END:VEVENT
END:VCALENDAR