BEGIN:VCALENDAR
VERSION:2.0
BEGIN:VEVENT
URL:https://1rodina.cz/index.php/sit-1rodina/udalosti/viewevent/33-vho-ridi-inovace-republiky-to-zjistila-v-etiopii 
DTSTART:20231122T000000
DTEND:20231122T001500
SUMMARY:VHO řídí ...Inovace Republiky to zjistila v Etiopii 
DESCRIPTION:
LOCATION:Praha
END:VEVENT
END:VCALENDAR