BEGIN:VCALENDAR
VERSION:2.0
BEGIN:VEVENT
URL:https://1rodina.cz/index.php/sit-1rodina/udalosti/viewevent/34-spejbl-fialovic-zanedbal-zrejme-ockovani 
DTSTART:20231123T000000
DTEND:20231123T001500
SUMMARY:Spejbl fialovič zanedbal zřejmě očkování
DESCRIPTION:
LOCATION:Praha
END:VEVENT
END:VCALENDAR