BEGIN:VCALENDAR
VERSION:2.0
BEGIN:VEVENT
URL:https://1rodina.cz/index.php/sit-1rodina/udalosti/viewevent/35-opicky-pry-maji-iq-kolem-108-a-to-je-sen 
DTSTART:20231124T000000
DTEND:20231124T001500
SUMMARY:Opičky prý mají IQ kolem 108 a to je sen ...
DESCRIPTION:IQ
LOCATION:Praha
END:VEVENT
END:VCALENDAR