BEGIN:VCALENDAR
VERSION:2.0
BEGIN:VEVENT
URL:https://1rodina.cz/index.php/sit-1rodina/udalosti/viewevent/37-zpravy-pisu-sem-cist-je-muze-cela-rodina-zmizela-mi-posta-ikonka 
DTSTART:20231124T000000
DTEND:20231124T001500
SUMMARY:ZPRÁVY PÍŠU SEM, ČÍST JE MÚŽE CELÁ RODINA, "ZMIZELA"MI POŠTA - ikonka
DESCRIPTION:POSLUŠNĚ HLÁSÍM, ŽE Mi ZMIZELA IKONA POŠTA A PROTO TO DÁVÁM NA VĚDOMÍ CELÉ RODINĚ, aby jste  nemysleli, že jsem náfuka, který neopdepisujew. Pěkný den IVOŠ
LOCATION:Jaroměř
END:VEVENT
END:VCALENDAR