BEGIN:VCALENDAR
VERSION:2.0
BEGIN:VEVENT
URL:https://1rodina.cz/index.php/sit-1rodina/udalosti/viewevent/38-kdo-se-pripoji-v-pondeli-27-11-2023 
DTSTART:20231127T080000
DTEND:20231127T081500
SUMMARY:KDO SE PŘIPOJÍ - v pondělí 27.11.2023 
DESCRIPTION:
LOCATION:Česká republika
END:VEVENT
END:VCALENDAR