BEGIN:VCALENDAR
VERSION:2.0
BEGIN:VEVENT
URL:https://1rodina.cz/index.php/sit-1rodina/udalosti/viewevent/39-ministerstvo-stesti 
DTSTART:20231224T000000
DTEND:20231224T010000
SUMMARY:MINISTERSTVO  ŠTÉSTÍ
DESCRIPTION:Přátelé ve státu Bhután, kde podle mne lišky dávají dobrou noc mají MINISTERSTVO  ŠTĚESTÍ a stará se o to aby se občané cítili v zemi spokojeně. To je přece  námět při změně SYSTÉMU.
LOCATION:Česká republika
END:VEVENT
END:VCALENDAR