BEGIN:VCALENDAR
VERSION:2.0
BEGIN:VEVENT
URL:https://1rodina.cz/index.php/sit-1rodina/udalosti/viewevent/40-slunovrat-zacne-se-prodluzovat-den-22-12-2023-ve-04-27-hodin 
DTSTART:20231222T000000
DTEND:20231222T043000
SUMMARY:SLUNOVRAT, ZAČNE SE PRODLUŽOVAT DEN 22.12.2023 ve 04.27 hodin
DESCRIPTION:Těším se na to jak malé dítě na hračky, to je velká událost proto těm žabomyším sporům.
LOCATION:Česká republika
END:VEVENT
END:VCALENDAR