BEGIN:VCALENDAR
VERSION:2.0
BEGIN:VEVENT
URL:https://1rodina.cz/index.php/sit-1rodina/udalosti/viewevent/41-probehla-akce-bojkot-retezcum-od-27-11-2023-do-3-12-2023 
DTSTART:20231206T000000
DTEND:20231206T001500
SUMMARY:PROBÉHLA AKCE - BOJKOT ŘETĚZCÚM od 27.11.2023 do 3.12.2023
DESCRIPTION:Přátelé kdo jste se přidal a nakupoval u ČESKÝCH ONCHODNÍKÚ přiznejte se
LOCATION:Česká republika
END:VEVENT
END:VCALENDAR