BEGIN:VCALENDAR
VERSION:2.0
BEGIN:VEVENT
URL:https://1rodina.cz/index.php/sit-1rodina/udalosti/viewevent/42-mikulasska-nadilka 
DTSTART:20231206T000000
DTEND:20231206T001500
SUMMARY:MIKULÁŠSKÁ NADÍLKA
DESCRIPTION:Přátelé začíná období kolektivního radování. nadílka je jenom začátek. Rozsvěcíme osvětlení v oknech  na balkónech a před domy. To světlo nám pomáhá překonat to největší tmu v roce. Teď už se proslavíme k tomu slunovratu a ... 
LOCATION:Česká republika
END:VEVENT
END:VCALENDAR