BEGIN:VCALENDAR
VERSION:2.0
BEGIN:VEVENT
URL:https://1rodina.cz/index.php/sit-1rodina/udalosti/viewevent/43-u-nas-uz-mikulas-byl 
DTSTART:20231206T000000
DTEND:20231206T001500
SUMMARY:U NÁS UŽ MIKULÁŠ BYL.
DESCRIPTION:Přátelé při té nadílce jsem se dozvěděl, že můj zeď se v minulosti ustrojil za Mikuláše doma a když na poslední chvíli nasedal do auta zjistil, že se do auta nevejde   a tak otevřel okénko a hlavu vystrčil a tak jel  nadělovat. Mrzí mne, že jsem to neviděl naživo.
LOCATION:Jaroměř
END:VEVENT
END:VCALENDAR