BEGIN:VCALENDAR
VERSION:2.0
BEGIN:VEVENT
URL:https://1rodina.cz/index.php/sit-1rodina/udalosti/viewevent/45-udajne-obranna-aliance-usa-vyslovilo-pravo-veta-na-usnesen0-rady-osn-o-uzavreni-primeri-v-izraeli-a-paletine 
DTSTART:20231210T000000
DTEND:20231210T001500
SUMMARY:ÚDAJNĚ OBRANNÁ ALIANCE - usa VYSLOVILO právo VETA NA USNESEN0 RADY OSN O UZAVŘENÍ PŘÍMĚŘÍ v izraeli a PALETINĚ
DESCRIPTION:Přátelé tito mírotvůrci se zachovali jako zmetci. No a na druhé straně neschválili dodej zbraní a peněz na válku do izraele, na ukrajinu a do THAI- VANU- ASI DOŠLI, DOŠLI. (UŽ JIM NIKDO NEPÚPČÍ)
LOCATION:SVĚT
END:VEVENT
END:VCALENDAR