BEGIN:VCALENDAR
VERSION:2.0
BEGIN:VEVENT
URL:https://1rodina.cz/index.php/sit-1rodina/udalosti/viewevent/46-usa-vetovalo-usneseni-osn-o-primeri-na-strednim-vychode 
DTSTART:20231211T000000
DTEND:20231211T001500
SUMMARY:usa VETOVALO usnesení OSN o PŘÍMĚŘÍ NA Středním východě
DESCRIPTION:ˇMírotvůrci a rozsévačí demokracie VETOVALI uzavření příměří, NATO prosazuje ÚDAJNĚ řešení konfliktů MÍROVOU CESTOU
LOCATION:Svět
END:VEVENT
END:VCALENDAR