BEGIN:VCALENDAR
VERSION:2.0
BEGIN:VEVENT
URL:https://1rodina.cz/index.php/sit-1rodina/udalosti/viewevent/47-vanocni-nadilka 
DTSTART:20231213T000000
DTEND:20231213T001500
SUMMARY:VÁNOČNÍ NADÍLKA
DESCRIPTION:Napadlo mne koupit vnukovi amatérský hvězdářský dalekohled. Sice máme mnou v dětství vyrobený, uložený v plastovém odpadním potrubí ALE tohle byla nádhera a když jsem ho přinesl domů neodolal jsem a když jsme byli s vnukem sami říkám, už jsi velký tak se podívej na co se můžeš těšit, nebo ho chceš hned. Ne říkal ALE po sléze tiše přišel a povídá Ivoši můžeš mi ho darovat na můj svátek to je cca z týden? Miluji vánoce i se všemi překvapeními. Ivoš 
LOCATION:Jaroměř
END:VEVENT
END:VCALENDAR