BEGIN:VCALENDAR
VERSION:2.0
BEGIN:VEVENT
URL:https://1rodina.cz/index.php/sit-1rodina/udalosti/viewevent/48-tomio-si-dnes-v-10-01-hod-precetl-moji-zadost-o-spolupraci 
DTSTART:20231215T000000
DTEND:20231215T001500
SUMMARY:TOMIO SI DNES V 10.01 hod. PŘEČETL MOJI ŽÁDOST O SPOLUPRÁCI
DESCRIPTION:Přátelé, poslušně hlásím, že si po týdnu moji žádost přečetl v což jsem ani ve snu nedoufal. ( paní Konečná zatím dělá mrtvého brouka a to jsem jí psal na dvě adresy)
LOCATION:Česká republika
END:VEVENT
END:VCALENDAR