BEGIN:VCALENDAR
VERSION:2.0
BEGIN:VEVENT
URL:https://1rodina.cz/index.php/sit-1rodina/udalosti/viewevent/49-vanocni-melancholicka-nalada 
DTSTART:20231222T000000
DTEND:20231224T001500
SUMMARY:VÁNOČNÍ MELANCHOLICKÁ NÁLADA
DESCRIPTION:Vyplynuly mi myšlenky o kterých dlouhé roky vím a průběžně se jim snažím porozumět.- Prostor a čas neexistuje, vše vyslovené má tendenci se uskutečnit, realitu si vytváříme sami svým způsobem myšlení, v každé situaci kterou prožíváme být tvůrcem ne obětí. A tak si tak přemýšlím o nesmrtelnosti chrousta. a přeju všem pěkné svátky.
LOCATION:Planeta Země
END:VEVENT
END:VCALENDAR