BEGIN:VCALENDAR
VERSION:2.0
BEGIN:VEVENT
URL:https://1rodina.cz/index.php/sit-1rodina/udalosti/viewevent/50-divoke-husy-se-vraci-do-svych-hnizdist 
DTSTART:20231222T000000
DTEND:20231222T001500
SUMMARY:DIVOKÉ HUSY SE VRACÍ DO SVÝCH HNÍZDIŠŤ
DESCRIPTION:Přátelé dnes v 11.30 hodin mi  přelétlo nad hlavou velké hejno divokých hus směrem na sever. Nebyla to skupinka otužilců opravdu stovky v těch charakteristických šípovitých formacích. ONY TO INSTINKTIVNĚ CÍTÍ - NELETÍ PO DRUHÉ. Mám velkou radost.
LOCATION:Královéhradecký kraj
END:VEVENT
END:VCALENDAR