BEGIN:VCALENDAR
VERSION:2.0
BEGIN:VEVENT
URL:https://1rodina.cz/index.php/sit-1rodina/udalosti/viewevent/51-ohnivy-zapad-slunce 
DTSTART:20231220T000000
DTEND:20231220T001500
SUMMARY:OHNIVÝ ZÁPAD SLUNCE
DESCRIPTION:Přátelé mrkněte z okna je to ohnivý západ slunce jaký nafotila včera Ivča.
LOCATION:Česká republika
END:VEVENT
END:VCALENDAR