BEGIN:VCALENDAR
VERSION:2.0
BEGIN:VEVENT
URL:https://1rodina.cz/index.php/sit-1rodina/udalosti/viewevent/52-nic-neni-tak-jak-navenek-vypada 
DTSTART:20231223T000000
DTEND:20231223T001500
SUMMARY:NIC NENÍ TAK JAK NAVENEK VYPADÁ
DESCRIPTION:<span>Když si dáme dohromady prosáklé informace JE TO VELKÉ DIVADLO, jehož účelem je vyvolat strach. Viděli jste někdy sebevraha v neprůstřelné vestě, viděli jste plápolat vlajku na vesmírném tělese bez atmosféry. Takzvaným " elitám" by vyhovovalo zdegradovat lidičky na IQ 109 a potom hrát divadlo jako hráli v minulosti kněží, když načasovali shromáždění lidiček na zatmění slunce a potom je strašili že když nebudou hodní vesmír je potrestá. Přátelé  SLA</span><span>VME SLAVMESLAVME na strašení se neohlížejme. V nějaké  zemi Vánoční svátky potlačují, nechtějí aby se lidi kolektivně radovali. Jo dnes je SLUNOVRAT.</span><div><br /></div><div><br /></div>
LOCATION:Celý svět
END:VEVENT
END:VCALENDAR