BEGIN:VCALENDAR
VERSION:2.0
BEGIN:VEVENT
URL:https://1rodina.cz/index.php/sit-1rodina/udalosti/viewevent/53-cukrovi-salat-kapr 
DTSTART:20231224T000000
DTEND:20231224T001500
SUMMARY:CUKROVÍ SALÁT KAPR
DESCRIPTION:Přátelé Včera dnes a zítra pečeme cukroví, na zítra zbývají medvědí pracky (těsto už je v lednici) To jsem ještě nezažil a jde to. Vyfiletoval jsem kapra a dopředu udělal bramborový salát. Přátelé salát a kapra  jsme vždy dělali na Štědrý den Tyto Vánoce jsou krásné tím, že všechno děláme jen tak a už se můžeme v podstatě radovat protože slunovrat který proběhl dnes Země zvládla ( jako doposud vždy) . Píšu Vám to proto, že mám velkou radost. SLAVME SLAVME SLAVME.
LOCATION:Planeta Země
END:VEVENT
END:VCALENDAR