BEGIN:VCALENDAR
VERSION:2.0
BEGIN:VEVENT
URL:https://1rodina.cz/index.php/sit-1rodina/udalosti/viewevent/54-kouzlo-okamziku-ohnivy-zapad-slunce-16-30-hod 
DTSTART:20231228T000000
DTEND:20231228T001500
SUMMARY:KOUZLO OKAMŽIKU - OHNIVÝ ZÁPAD SLUNCE 16.30 hod.
DESCRIPTION:Mrkněte k obzoru to je nádhera
LOCATION:Česká republika
END:VEVENT
END:VCALENDAR