BEGIN:VCALENDAR
VERSION:2.0
BEGIN:VEVENT
URL:https://1rodina.cz/index.php/sit-1rodina/udalosti/viewevent/55-neco-tu-smrdi 
DTSTART:20231229T000000
DTEND:20231231T001500
SUMMARY:NĚCO TU SMRDÍ
DESCRIPTION:Přátelé cítíte ten SMRAD. Jde to směrem od Prahy cítíte to taky. 
LOCATION:Praha
END:VEVENT
END:VCALENDAR