BEGIN:VCALENDAR
VERSION:2.0
BEGIN:VEVENT
URL:https://1rodina.cz/index.php/sit-1rodina/udalosti/viewevent/56-pysna-princezna 
DTSTART:20231230T000000
DTEND:20231230T001500
SUMMARY:Pyšná princezna.
DESCRIPTION:Klasika která pohladí po duši.
LOCATION:Česká republika
END:VEVENT
END:VCALENDAR