BEGIN:VCALENDAR
VERSION:2.0
BEGIN:VEVENT
URL:https://1rodina.cz/index.php/sit-1rodina/udalosti/viewevent/58-2024-to-je-zmena-a-v-numerologii-je-to-cislo-8 
DTSTART:20240101T000000
DTEND:20241231T001500
SUMMARY:2024 - TO JE ZMĚNA a v numerologii je to číslo 8  
DESCRIPTION:OSMIČKA JE TO MOCNÉ ČÍSLO  zastupující řád, sílu, zdatnost vytrvalost, odvahu pracovitost, cílevědomost a i zarputilost strohost až agresivitu v cestě za " úspěchem"
LOCATION:Česká republika
END:VEVENT
END:VCALENDAR