BEGIN:VCALENDAR
VERSION:2.0
BEGIN:VEVENT
URL:https://1rodina.cz/index.php/sit-1rodina/udalosti/viewevent/59-k-tomu-dochazi-jednou-za-12-000-let-youtube-to-je-nazev-souhrnu-informaci-o-soucasnem-deni-ve-vesmiru 
DTSTART:20240113T000000
DTEND:20241231T001500
SUMMARY:K TOMU DOCHÁZÍ JEDNOU ZA 12 000 let - YOUTUBE : (To je název souhrnu informací o současném dění ve vesmíru)
DESCRIPTION:JEV PŘI KTERÉM SE VLIVEM KOSMICKÉHO ZÁŘENÍ OHŘÍVAJÍ JÁDRA VŠECH PLANET SLUNEČNÍ SOUSTAVY
LOCATION:Vesmír
END:VEVENT
END:VCALENDAR