BEGIN:VCALENDAR
VERSION:2.0
BEGIN:VEVENT
URL:https://1rodina.cz/index.php/sit-1rodina/udalosti/viewevent/6-taboreni-originalni-talk-show-z-tabora 
DTSTART:20230629T200000
DTEND:20230629T231500
SUMMARY:Táboření - originální talk show z Tábora
DESCRIPTION:??́???̌???́ - ???????́???́ ???? ???? ? ??́????
?? ?̌?????? ??. ?̌????? ???? ?? ?? ?????.
?????́ ??́? ?????????? ??́???.
Vstupné v předprodeji: 390,- Kč
*****************************************
HOSTÉ:


? ????? ??́????
Známý český rybář, držitel několika světových rekordů
? ??????? ?????́????́
Česká rozhlasová a televizní moderátorka, koncertní pěvkyně - mezzosopranistka
? ????? ?????̌
Muž se zajímavým rodokmenem
******************************************
MODERUJE:
???̌?́ ?????? ?????́?̌?? 
LOCATION:Vančurova 2904, Tábor
END:VEVENT
END:VCALENDAR