BEGIN:VCALENDAR
VERSION:2.0
BEGIN:VEVENT
URL:https://1rodina.cz/index.php/sit-1rodina/udalosti/viewevent/60-lidi-podporte-hnuti-cesko-na-1-miste-info-e-mail-ivos-cz 
DTSTART:20240103T000000
DTEND:20240430T001500
SUMMARY:LIDI PODPOŘTE HNUTÍ ČESKO NA 1. MÍSTĚ , info E- Mail: Ivoš...@...cz 
DESCRIPTION:PŘÁTELÉ ZADEL JSEM INZERÁT DO NOVIN S VĚDOMÍM, ŽE JE TO SNAŽŠÍ PROPAGACE NEŽ TISKNOUT A ROZNÁŠET 5000 LETÁKÚ DO SCHRÁNEK
LOCATION:Královéhradecký kraj
END:VEVENT
END:VCALENDAR