BEGIN:VCALENDAR
VERSION:2.0
BEGIN:VEVENT
URL:https://1rodina.cz/index.php/sit-1rodina/udalosti/viewevent/61-mozny-konec-toho-cervenomodreho-hnusu 
DTSTART:20240412T000000
DTEND:20240415T001500
SUMMARY:MOŽNÝ KONEC TOHO ČERVENOMODRÉHO HNUSU
DESCRIPTION:Přátelé poskládal jsem si informace a v půli dubna 2024 je čas změn a v tu dobu má tento hnus kongres a vlastní členové ROZHODNOU a půjde.
LOCATION:Česká republika
END:VEVENT
END:VCALENDAR