BEGIN:VCALENDAR
VERSION:2.0
BEGIN:VEVENT
URL:https://1rodina.cz/index.php/sit-1rodina/udalosti/viewevent/62-radujme-se-veselme-se-doktor-vajicko-funguje-dal-na-kanale-c-1 
DTSTART:20240109T000000
DTEND:20240111T001500
SUMMARY:RADUJME SE VESELME SE - DOKTOR VAJÍČKO ´FUNGUJE DÁL NA KANÁLE č.1
DESCRIPTION:LIDI podařilo se dohodnout zachování vysílání doktora Vajíčka na kanále č. 1 jupí
LOCATION:Česká republika
END:VEVENT
END:VCALENDAR