BEGIN:VCALENDAR
VERSION:2.0
BEGIN:VEVENT
URL:https://1rodina.cz/index.php/sit-1rodina/udalosti/viewevent/63-chcimir-rikal-uz-vinetou 
DTSTART:20240116T000000
DTEND:20240116T001500
SUMMARY:CHCIMÍR ŘÍKAL UŽ VINETOU 
DESCRIPTION:PŘÁTELÉ UŽ VÍM PROČ CHTĚJÍ ZAKÁZAT FILMY S VONETOUEM - CHCIVÁLKOVÉ SI MYSLEJÍ, ŽE ŠÍŘÍ  ŠPATNÉ INFORMACE, ŽE CHCE MÍR   
LOCATION:Svět
END:VEVENT
END:VCALENDAR