BEGIN:VCALENDAR
VERSION:2.0
BEGIN:VEVENT
URL:https://1rodina.cz/index.php/sit-1rodina/udalosti/viewevent/64-politici-neduveruji-obcanum-lide-neduveruji-politikum-tak-nac-nam-jsou 
DTSTART:20240113T000000
DTEND:20241231T001500
SUMMARY:POLITICI NEDÚVĚŘUJÍ OBČANÚM - LIDÉ NEDÚVĚŘUJÍ POLITIKÚM TAK NAČ NÁM JSOU
DESCRIPTION:NAPADLO MNE JAK a PROČ  SPOLEČNĚ ŽÍT VE VZÁJEMNÉ NEDÚVĚŘE
LOCATION:Česká republika
END:VEVENT
END:VCALENDAR