BEGIN:VCALENDAR
VERSION:2.0
BEGIN:VEVENT
URL:https://1rodina.cz/index.php/sit-1rodina/udalosti/viewevent/65-stat-potazmo-deti-soudi-rodice-pro-kus-zvance 
DTSTART:20240114T000000
DTEND:20240116T001500
SUMMARY:STÁT  - potažmo DĚTI SOUDÍ RODIČE PRO KUS ŽVANCE 
DESCRIPTION:TAKOVÁ OSTUDA A JEŠTĚ Z TOHO DĚLAJÍ DIVADLO. TO BY CHTĚLO NAHRÁT A POUŠTÉT AŽ JE BUDOU SOUDIT 
LOCATION:Praha
END:VEVENT
END:VCALENDAR