BEGIN:VCALENDAR
VERSION:2.0
BEGIN:VEVENT
URL:https://1rodina.cz/index.php/sit-1rodina/udalosti/viewevent/69-dej-dar-a-ti-dva-mavaci-z-hradu-dostanou-od-vlady-miliony 
DTSTART:20240118T000000
DTEND:20241231T001500
SUMMARY:DEJ DAR a TI DVA MÁVAČI Z HRADU DOSTANOU OD VLÁDY MILIONY 
DESCRIPTION:TEN PRVNÍ SI O TO ŘÍKÁ UŽ SVÝM JMÉNEM A ZA TO DIVADLO JIM VLÁDA NADĚLÍ A LIDI SI O NĚ NEOPŘOU ANI KOLO
LOCATION:Česká republika
END:VEVENT
END:VCALENDAR