BEGIN:VCALENDAR
VERSION:2.0
BEGIN:VEVENT
URL:https://1rodina.cz/index.php/sit-1rodina/udalosti/viewevent/7-krok-za-svobodu-a-mir?groupid=5 
DTSTART:20230701T000000
DTEND:20230715T001500
SUMMARY:KROK ZA SVOBODU A MÍR 
DESCRIPTION:<span>Pochod začátek 1.7.2023 v Bohumíně s cílem 15.7.2023 v Praze na Letné.</span><div>Smyslem pochodu je přinést lidem informace, způsob možného řešení, cíl nejen Krajských referend. </div><div>S sebou poneseme PERGAMEN, na který každý bude moci napsat svůj vzkez vládě, který budeme v cíli číst všem, kteří se zúčastní. </div><div>Podrobnosti na www.obcanbily.cz </div><div>www.obcanskyretezsvobody.cz </div>
LOCATION:Bohumín hl. nádraží Česká republika
END:VEVENT
END:VCALENDAR