BEGIN:VCALENDAR
VERSION:2.0
BEGIN:VEVENT
URL:https://1rodina.cz/index.php/sit-1rodina/udalosti/viewevent/70-keasny-den 
DTSTART:20240121T000000
DTEND:20240121T001500
SUMMARY:KEÁSNÝ DEN
DESCRIPTION:Přátelé dneska je úplný hřích ťukat do klávesnice. Tak jsem si dovolil trochu zhřešit a podělit se o radost ze sluníčka.
LOCATION:Česká republika
END:VEVENT
END:VCALENDAR