BEGIN:VCALENDAR
VERSION:2.0
BEGIN:VEVENT
URL:https://1rodina.cz/index.php/sit-1rodina/udalosti/viewevent/71-marketink-hurvinka-je-stejny-jako-caputove-petra-pavla 
DTSTART:20240124T000000
DTEND:20241231T001500
SUMMARY:MARKETINK HURVÍNKA JE STEJN´Ý JAKO ČAPUTOVÉ, petra, pavla
DESCRIPTION:PŘÁTELÉ HURVÍNEK CHCE BÝT PREMIÉREM a DIVADELNÍ TURNÉ JE ZA ÚČELEM PŘIBLÍŽIT SE LIDU A V TELEVIZI SE PTAJÍ BABIŠE CO BY TOMU ŘÍKAL. KDYBY , KDYBY byl Hurvínek premiérem tak to jen tak na okraj taková úvaha o plánech loutkovodičů
LOCATION:usa a ČESKÁ REPUBLIKA
END:VEVENT
END:VCALENDAR