BEGIN:VCALENDAR
VERSION:2.0
BEGIN:VEVENT
URL:https://1rodina.cz/index.php/sit-1rodina/udalosti/viewevent/73-vynucena-spoloprace-bud-uplacenim-nebo-vydiranim-neco-z-historie 
DTSTART:20240129T000000
DTEND:20241231T001500
SUMMARY:VYNUCENÁ SPOLOPRÁCE  BUĎ UPLÁCENÍM NEBO VYDÍRÁNÍM - NĚCO Z HISTORIE
DESCRIPTION:VÍTE ŽE  jedna CHARTISTKA PODEPSALA SPOLUPRÁCI SE STÁTERM  O DONÁŠENÍ NA SVÉHO MANŽELA O MANŽEL PODEPSAL SPOLUPRÁCI  NA DONÁŠENÍ NA SVOU MANŽELKU a k tomu si můžeme přimyslet vyhrožování, to víte rodina je rodina to je citlivé místečko a  máme tu kotrmelce v rozhodování a rozdělování. Je dobré poznat něco z historie, často se opakuje. A tak jak to říkal Fučík. LIDÉ BDĚTE. 
LOCATION:SVĚT
END:VEVENT
END:VCALENDAR