BEGIN:VCALENDAR
VERSION:2.0
BEGIN:VEVENT
URL:https://1rodina.cz/index.php/sit-1rodina/udalosti/viewevent/74-jhak-to-je-s-demonstraci-za-demisi-31-1-2024-v-15-hodin 
DTSTART:20240131T000000
DTEND:20240202T001500
SUMMARY:JHAK TO JE S DEMONSTRACÍ ZA DEMISI - 31.1.2024 v 15. hodin?
DESCRIPTION:Na netu probleskla pouze zpráva že vláda vyřadila z tendru na dostavbu Temelína americkou ( krachující) společnost a o demonstraci nic
LOCATION:Praha
END:VEVENT
END:VCALENDAR